Workbook

Sheet Costing and analyses
B3: Costing Estimate of the HPV vaccine for 1 and 2 doses | G3: Expenditure analyses of main expenditure items | H3: Actual | I3: Actual
C4: 1 DOSE | D4: 2 DOSES | H4: 2014/15 | I4: 2015/16
A5: * | B5: Vaccine procurement | C5: =(J13/2)*455000 -> 75141460 | D5: =J13*455000 -> 1.5028292e+08 | G5: Vaccine coverage | H5: (91.8%) 419 589 | I5: (80%) 364 000
B6: Travel and Transport | C6: =I22/2 -> 10363922 | D6: =I22 -> 20727845 | G6: Expenditure: NHI Grant (HPV) | H6: 1.8948886e+08 | I6: 109442023
B7: Printing and consumables | C7: =I25/2 -> 2034097.6 | D7: =I25 -> 4068195.2 | G7: Expenditure: Voted funding | H7: 0 | I7: 15703468
B8: Compensation of employees | C8: =I16/2 -> 6230907.8 | D8: =I16 -> 12461816 | G8: Expenditure Total | H8: =SUM(H6:H7) -> 1.8948886e+08 | I8: =SUM(I6:I7) -> 125145491
B9: Electronic tablets | C9: 4000000 | D9: 4000000
B10: Training, Venues and Catering | C10: =I19/2 -> 1988597 | D10: =I19 -> 3977194 | G10: Vaccine cost | H10: 2014/15 | I10: 2015/16
B11: Total | C11: =SUM(C5:C10) -> 99758985 | D11: =SUM(D5:D10) -> 1.9551797e+08 | G11: Girls actually vaccinated with 2 doses | H11: 419589 | I11: 364000
A12: * | B12: Assuming 455 000 girls will receive the vaccine | G12: Actual vaccine procurement costs | H12: ='Exp201415'!W28 -> 1.7704566e+08 | I12: ='Exp201516'!W64+'Exp201516'!W100+'Exp201516'!W108 -> 86862805 | K12: Note:
G13: Cost per learner for 2 doses | H13: =H12/H11 -> 421.95018 | I13: =I12/I11 -> 238.63408 | J13: =(H13+I13)/2 -> 330.29213 | K13: Average cost over the 2 year period used due to vaccines paid for in previous year used in the following year
G15: Compensation and contractors | H15: 2014/15 | I15: 2015/16
G16: Total | H16: ='Exp201415'!W22 -> 2603615.4 | I16: ='Exp201516'!W14+'Exp201516'!W16+'Exp201516'!W32+'Exp201516'!W36+'Exp201516'!W38+'Exp201516'!W42+'Exp201516'!W66+'Exp201516'!W68+'Exp201516'!W74+'Exp201516'!W75+'Exp201516'!W83+'Exp201516'!W88+'Exp201516'!W89+'Exp201516'!W90+'Exp201516'!W95+'Exp201516'!W102+'Exp201516'!W105 -> 12461816
G18: Training, venues and catering | H18: 2014/15 | I18: 2015/16
G19: Total | H19: ='Exp201415'!W9+'Exp201415'!W25+'Exp201415'!V9 -> 111518.37 | I19: ='Exp201516'!W5+'Exp201516'!W13+'Exp201516'!W27+'Exp201516'!W44+'Exp201516'!W45+'Exp201516'!W92+'Exp201516'!W101+'Exp201516'!W106 -> 3977194
G21: Travel and Transport | H21: 2014/15 | I21: 2015/16
G22: Total | H22: ='Exp201415'!W5+'Exp201415'!W6+'Exp201415'!W7+'Exp201415'!W8+'Exp201415'!W10+'Exp201415'!W12+'Exp201415'!W13+'Exp201415'!W21+'Exp201415'!W26+'Exp201415'!W27 -> 9063133.9 | I22: ='Exp201516'!W7+'Exp201516'!W10+'Exp201516'!W12+'Exp201516'!W19+'Exp201516'!W22+'Exp201516'!W28+'Exp201516'!W30+'Exp201516'!W34+'Exp201516'!W35+'Exp201516'!W43+'Exp201516'!W46+'Exp201516'!W47+'Exp201516'!W48+'Exp201516'!W49+'Exp201516'!W50+'Exp201516'!W54+'Exp201516'!W59+'Exp201516'!W63+'Exp201516'!W73+'Exp201516'!W77+'Exp201516'!W80+'Exp201516'!W84+'Exp201516'!W87+'Exp201516'!W91+'Exp201516'!W96+'Exp201516'!W97+'Exp201516'!W99+'Exp201516'!W107 -> 20727845
G24: Stationery and consumables | H24: 2014/15 | I24: 2015/16
G25: Total | H25: ='Exp201415'!W15+'Exp201415'!W17 -> 679429 | I25: ='Exp201516'!W18+'Exp201516'!W23+'Exp201516'!W26+'Exp201516'!W31+'Exp201516'!W52+'Exp201516'!W61+'Exp201516'!W104+'Exp201516'!V104+'Exp201516'!V98+'Exp201516'!V85+'Exp201516'!V61+'Exp201516'!V52+'Exp201516'!V3 -> 4068195.2

Sheet Exp201415
A1: National_Provincial | B1: Department | C1: Responsibility_Level_1 | D1: Responsibility_Level_2 | E1: Responsibility_Level_3 | F1: Responsibility_Level_4 | G1: Responsibility_Level_5 | H1: Responsibility_Level_6 | I1: Responsibility_Level_7 | J1: Responsibility_Level_8 | K1: Responsibility_Level_9 | L1: Responsibility_Lowest_Level | M1: Responsibility_Lowest_Level_Code | N1: Econ_Class | O1: Financial_Year | P1: Original_Budget | Q1: Adjustment_Budget | R1: Virement | S1: Fund_Shift | T1: Roll_Over | U1: Current_Budget | V1: Commitment | W1: Total_Expenditure | X1: Available_Budget | Y1: Regional_ID_Level_1 | Z1: Regional_ID_Level_2 | AA1: Regional_ID_Level_3 | AB1: Regional_ID_Level_4 | AC1: Regional_ID_Level_5 | AD1: Regional_ID_Level_6 | AE1: Regional_ID_Lowest_Level | AF1: Regional_ID_Lowest_Level_Code | AG1: Fund_Level_1 | AH1: Fund_Level_2 | AI1: Fund_Level_3 | AJ1: Fund_Level_4 | AK1: Fund_Level_5 | AL1: Fund_Level_6 | AM1: Fund_Lowest_Level | AN1: Fund_Lowest_Level_Code | AO1: Programme_Level_5 | AP1: Sub_Programme_Level_6 | AQ1: Objective_Level_7 | AR1: Objective_Level_8 | AS1: Objective_Level_9 | AT1: Objective_Level_10 | AU1: Objective_Level_11 | AV1: Objective_Level_12 | AW1: Objective_Lowest_Level | AX1: Objective_Lowest_Level_Code | AY1: Assets_Level_1 | AZ1: Assets_Level_2 | BA1: Assets_Level_3 | BB1: Assets_Level_4 | BC1: Assets_Level_5 | BD1: Assets_Level_6 | BE1: Assets_Lowest_Level | BF1: Assets_Lowest_Level_Code | BG1: Project_Level_1 | BH1: Project_Level_2 | BI1: Project_Level_3 | BJ1: Project_Level_4 | BK1: Project_Level_5 | BL1: Project_Level_6 | BM1: Project_Lowest_Level | BN1: Project_Lowest_Level_Code | BO1: Item_Level_1 | BP1: Item_Level_2 | BQ1: Item_Level_3 | BR1: Item_Level_4 | BS1: Item_Level_5 | BT1: Item_Level_6 | BU1: Item_Lowest_Level | BV1: Item_Lowest_Level_Code | BW1: Infrastructure_Level_1 | BX1: Infrastructure_Level_2 | BY1: Infrastructure_Level_3 | BZ1: Infrastructure_Level_4 | CA1: Infrastructure_Level_5 | CB1: Infrastructure_Level_6 | CC1: Infrastructure_Lowest_Level | CD1: Infrastructure_Lowest_Level_Code | CE1: ICT | CF1: ICT_Resp | CG1: ICT_Item | CH1: ECON_CLASS_LEVEL_2 | CI1: ECON_CLASS_LEVEL_3 | CJ1: INCONSISTENT_ECON_CLASS | CK1: Func_Class_Level_1 | CL1: Func_Class_Level_2 | CM1: Func_Class_Lowest_Level
A2: National Departments | B2: Vote 16: Health | C2: DEPARTMENTAL RESPONSIBILITIES | D2: NATIONAL DEPARTMENT OF HEALTH | E2: P3:HIV AIDS,TB, MAT & CHILD HLTH | F2: CHILD YOUTH AND SCHOOL HLTH | G2: CHILD YOUTH & SCHOOL HEALTH | L2: CHILD YOUTH & SCHOOL HEALTH | M2: 32275025 | N2: CAPITAL | O2: 2014/2015 | P2: 0 | Q2: 500000 | R2: 0 | S2: 0 | T2: 0.00 | U2: 500000 | V2: 0 | W2: 0 | X2: 500000 | Y2: REGIONAL IDENTIFIER | Z2: NAT FUNCTION:WHOLE COUNTRY DOM | AA2: NAT FUNCTION: WHOLE COUNTRY DOM | AE2: NAT FUNCTION: WHOLE COUNTRY DOM | AF2: 30001025 | AG2: EXPENDITURE:VOTED | AH2: DEPARTMENTAL APPROPRIATION | AI2: EARMARKED AND SPECIFIC FUNDS | AJ2: E & S FUNDS: NATIONAL | AK2: E&S/F:HEALTH | AL2: DOH:SPEC & EXCL APPROPRIATE | AM2: NHI GRANT:HPV VAC CO-ALL-IN-KIND | AN2: 853025 | AO2: DOH:HIV&AIDS, TB, MAT&CHILD HEAL | AP2: DOH:CHILD,YOUTH & SCHOOL HEALTH | AQ2: HPV VACCINE | AW2: HPV VACCINE | AX2: 30130025 | AY2: TANGIBLE CAPITAL ASSETS | AZ2: MACHINERY & EQUIPMENT | BA2: OTHER MACHINERY & EQUIPMENT | BB2: COMPUTER EQUIPMENT | BC2: COMP HARD&SYSTEMS - LAPTOP | BD2: COMP H/WARE&SYS: LAPTOP | BE2: COMP H/WARE&SYS: LAPTOP | BF2: 30007025 | BG2: NO PROJECTS | BH2: NO PROJECTS | BM2: NO PROJECTS | BN2: 4025 | BO2: PAYMENTS | BP2: PUR/CONST CAPITAL ASSETS | BQ2: MACHINERY AND EQUIPMENT | BR2: OTHER MACHINERY & EQUIPMENT | BS2: COMPUTER EQUIPMENT | BT2: COMP HARD&SYSTEMS - LAPTOP | BU2: COMP HARD&SYS - LAPTOP | BV2: 3216025 | BW2: EXPENDITURE | BX2: NON INFRASTRUCTURE | BY2: NON INFRASTRUCTURE: CAPITAL | BZ2: NON INFRASTRUCTURE: CAPITAL | CA2: NON INFRA/STAND ALONE: CAP | CC2: NON INFRA/STAND ALONE: CAP | CD2: 98025 | CE2: Y | CF2: N | CG2: Y | CH2: PAYMENTS FOR CAPITAL ASSETS | CI2: MACHINERY AND EQUIPMENT | CJ2: MACHINERY AND EQUIPMENT | CK2: HEALTH | CL2: HEALTH N.E.C. | CM2: HLTH:HEALTH N.E.C.
A3: National Departments | B3: Vote 16: Health | C3: DEPARTMENTAL RESPONSIBILITIES | D3: NATIONAL DEPARTMENT OF HEALTH | E3: P3:HIV AIDS,TB, MAT & CHILD HLTH | F3: CHILD YOUTH AND SCHOOL HLTH | G3: CHILD YOUTH & SCHOOL HEALTH | L3: CHILD YOUTH & SCHOOL HEALTH | M3: 32275025 | N3: CAPITAL | O3: 2014/2015 | P3: 0 | Q3: 10000000 | R3: 0 | S3: 0 | T3: 0.00 | U3: 10000000 | V3: 0 | W3: 0 | X3: 10000000 | Y3: REGIONAL IDENTIFIER | Z3: NAT FUNCTION:WHOLE COUNTRY DOM | AA3: NAT FUNCTION: WHOLE COUNTRY DOM | AE3: NAT FUNCTION: WHOLE COUNTRY DOM | AF3: 30001025 | AG3: EXPENDITURE:VOTED | AH3: DEPARTMENTAL APPROPRIATION | AI3: EARMARKED AND SPECIFIC FUNDS | AJ3: E & S FUNDS: NATIONAL | AK3: E&S/F:HEALTH | AL3: DOH:SPEC & EXCL APPROPRIATE | AM3: NHI GRANT:HPV VAC CO-ALL-IN-KIND | AN3: 853025 | AO3: DOH:HIV&AIDS, TB, MAT&CHILD HEAL | AP3: DOH:CHILD,YOUTH & SCHOOL HEALTH | AQ3: HPV VACCINE | AW3: HPV VACCINE | AX3: 30130025 | AY3: TANGIBLE CAPITAL ASSETS | AZ3: MACHINERY & EQUIPMENT | BA3: OTHER MACHINERY & EQUIPMENT | BB3: MEDICAL & ALLIED EQUIPMENT | BC3: MEDICAL & ALLIED EQUIPMENT | BE3: MEDICAL & ALLIED EQUIPMENT | BF3: 30050025 | BG3: NO PROJECTS | BH3: NO PROJECTS | BM3: NO PROJECTS | BN3: 4025 | BO3: PAYMENTS | BP3: PUR/CONST CAPITAL ASSETS | BQ3: MACHINERY AND EQUIPMENT | BR3: OTHER MACHINERY & EQUIPMENT | BS3: MEDICAL & ALLIED EQUIPMENT | BT3: MEDICAL & ALLIED EQUIPMENT | BU3: MEDICAL & ALLIED EQUIPMENT | BV3: 1499025 | BW3: EXPENDITURE | BX3: NON INFRASTRUCTURE | BY3: NON INFRASTRUCTURE: CAPITAL | BZ3: NON INFRASTRUCTURE: CAPITAL | CA3: NON INFRA/STAND ALONE: CAP | CC3: NON INFRA/STAND ALONE: CAP | CD3: 98025 | CE3: N | CF3: N | CG3: N | CH3: PAYMENTS FOR CAPITAL ASSETS | CI3: MACHINERY AND EQUIPMENT | CJ3: MACHINERY AND EQUIPMENT | CK3: HEALTH | CL3: HEALTH N.E.C. | CM3: HLTH:HEALTH N.E.C.
A4: National Departments | B4: Vote 16: Health | C4: DEPARTMENTAL RESPONSIBILITIES | D4: NATIONAL DEPARTMENT OF HEALTH | E4: P3:HIV AIDS,TB, MAT & CHILD HLTH | F4: CHILD YOUTH AND SCHOOL HLTH | G4: CHILD YOUTH & SCHOOL HEALTH | L4: CHILD YOUTH & SCHOOL HEALTH | M4: 32275025 | N4: CURRENT | O4: 2014/2015 | P4: 0 | Q4: 0 | R4: 0 | S4: 0 | T4: 0.00 | U4: 0 | V4: 0 | W4: 0 | X4: 0 | Y4: REGIONAL IDENTIFIER | Z4: NAT FUNCTION:WHOLE COUNTRY DOM | AA4: NAT FUNCTION: WHOLE COUNTRY DOM | AE4: NAT FUNCTION: WHOLE COUNTRY DOM | AF4: 30001025 | AG4: EXPENDITURE:VOTED | AH4: DEPARTMENTAL APPROPRIATION | AI4: EARMARKED AND SPECIFIC FUNDS | AJ4: E & S FUNDS: NATIONAL | AK4: E&S/F:HEALTH | AL4: DOH:SPEC & EXCL APPROPRIATE | AM4: NHI GRANT:HPV VAC CO-ALL-IN-KIND | AN4: 853025 | AO4: DOH:HIV&AIDS, TB, MAT&CHILD HEAL | AP4: DOH:CHILD,YOUTH & SCHOOL HEALTH | AQ4: CHILD YOUTH & SCHOOL HLTH | AW4: CHILD YOUTH & SCHOOL HLTH | AX4: 30014025 | AY4: NON-ASSETS RELATED | AZ4: NON-ASSETS RELATED | BE4: NON-ASSETS RELATED | BF4: 235025 | BG4: NO PROJECTS | BH4: NO PROJECTS | BM4: NO PROJECTS | BN4: 4025 | BO4: PAYMENTS | BP4: PAYMENTS | BQ4: GOODS AND SERVICES | BR4: INV: MEDICINE | BS4: INV MEDI:VACCINES | BT4: INV MEDI:VACCINES | BU4: INV MEDI:VACCINES | BV4: 2329025 | BW4: EXPENDITURE | BX4: NON INFRASTRUCTURE | BY4: NON INFRASTRUCTURE: CURRENT | BZ4: NON INFRASTRUCTURE: CURRENT | CA4: NON INFRA/STAND ALONE: CUR | CC4: NON INFRA/STAND ALONE: CUR | CD4: 95025 | CE4: N | CF4: N | CG4: N | CH4: Total Expenditure = 0 | CI4: Total Expenditure = 0 | CJ4: Total Expenditure = 0 | CK4: HEALTH | CL4: HEALTH N.E.C. | CM4: HLTH:HEALTH N.E.C.
A5: National Departments | B5: Vote 16: Health | C5: DEPARTMENTAL RESPONSIBILITIES | D5: NATIONAL DEPARTMENT OF HEALTH | E5: P3:HIV AIDS,TB, MAT & CHILD HLTH | F5: CHILD YOUTH AND SCHOOL HLTH | G5: CHILD YOUTH & SCHOOL HEALTH | L5: CHILD YOUTH & SCHOOL HEALTH | M5: 32275025 | N5: CURRENT | O5: 2014/2015 | P5: 0 | Q5: 0 | R5: 0 | S5: 0 | T5: 0.00 | U5: 0 | V5: 0 | W5: 269.44 | X5: -269.44 | Y5: REGIONAL IDENTIFIER | Z5: NAT FUNCTION:WHOLE COUNTRY DOM | AA5: NAT FUNCTION: WHOLE COUNTRY DOM | AE5: NAT FUNCTION: WHOLE COUNTRY DOM | AF5: 30001025 | AG5: EXPENDITURE:VOTED | AH5: DEPARTMENTAL APPROPRIATION | AI5: EARMARKED AND SPECIFIC FUNDS | AJ5: E & S FUNDS: NATIONAL | AK5: E&S/F:HEALTH | AL5: DOH:SPEC & EXCL APPROPRIATE | AM5: NHI GRANT:HPV VAC CO-ALL-IN-KIND | AN5: 853025 | AO5: DOH:HIV&AIDS, TB, MAT&CHILD HEAL | AP5: DOH:CHILD,YOUTH & SCHOOL HEALTH | AQ5: HPV VACCINE | AW5: HPV VACCINE | AX5: 30130025 | AY5: NON-ASSETS RELATED | AZ5: NON-ASSETS RELATED | BE5: NON-ASSETS RELATED | BF5: 235025 | BG5: NO PROJECTS | BH5: NO PROJECTS | BM5: NO PROJECTS | BN5: 4025 | BO5: PAYMENTS | BP5: PAYMENTS | BQ5: GOODS AND SERVICES | BR5: FLEET SERVICES(F/SER) | BS5: FLEET SERVICES | BT5: F/SER:TOLL FEES | BU5: F/SER:TOLL FEES | BV5: 3476025 | BW5: EXPENDITURE | BX5: NON INFRASTRUCTURE | BY5: NON INFRASTRUCTURE: CURRENT | BZ5: NON INFRASTRUCTURE: CURRENT | CA5: NON INFRA/STAND ALONE: CUR | CC5: NON INFRA/STAND ALONE: CUR | CD5: 95025 | CE5: N | CF5: N | CG5: N | CH5: CURRENT PAYMENTS | CI5: GOODS AND SERVICES | CJ5: GOODS AND SERVICES | CK5: HEALTH | CL5: HEALTH N.E.C. | CM5: HLTH:HEALTH N.E.C.
A6: National Departments | B6: Vote 16: Health | C6: DEPARTMENTAL RESPONSIBILITIES | D6: NATIONAL DEPARTMENT OF HEALTH | E6: P3:HIV AIDS,TB, MAT & CHILD HLTH | F6: CHILD YOUTH AND SCHOOL HLTH | G6: CHILD YOUTH & SCHOOL HEALTH | L6: CHILD YOUTH & SCHOOL HEALTH | M6: 32275025 | N6: CURRENT | O6: 2014/2015 | P6: 0 | Q6: 0 | R6: 0 | S6: 0 | T6: 0.00 | U6: 0 | V6: 0 | W6: 4403.23 | X6: -4403.23 | Y6: REGIONAL IDENTIFIER | Z6: NAT FUNCTION:WHOLE COUNTRY DOM | AA6: NAT FUNCTION: WHOLE COUNTRY DOM | AE6: NAT FUNCTION: WHOLE COUNTRY DOM | AF6: 30001025 | AG6: EXPENDITURE:VOTED | AH6: DEPARTMENTAL APPROPRIATION | AI6: EARMARKED AND SPECIFIC FUNDS | AJ6: E & S FUNDS: NATIONAL | AK6: E&S/F:HEALTH | AL6: DOH:SPEC & EXCL APPROPRIATE | AM6: NHI GRANT:HPV VAC CO-ALL-IN-KIND | AN6: 853025 | AO6: DOH:HIV&AIDS, TB, MAT&CHILD HEAL | AP6: DOH:CHILD,YOUTH & SCHOOL HEALTH | AQ6: HPV VACCINE | AW6: HPV VACCINE | AX6: 30130025 | AY6: NON-ASSETS RELATED | AZ6: NON-ASSETS RELATED | BE6: NON-ASSETS RELATED | BF6: 235025 | BG6: NO PROJECTS | BH6: NO PROJECTS | BM6: NO PROJECTS | BN6: 4025 | BO6: PAYMENTS | BP6: PAYMENTS | BQ6: GOODS AND SERVICES | BR6: TRAVEL AND SUBSISTENCE | BS6: T&S DOMESTIC | BT6: T&S:DOM:TRANSPORT-SHUTTLE SRVCS | BU6: T&S DOM:ROAD TRANSPORT | BV6: 3993025 | BW6: EXPENDITURE | BX6: NON INFRASTRUCTURE | BY6: NON INFRASTRUCTURE: CURRENT | BZ6: NON INFRASTRUCTURE: CURRENT | CA6: NON INFRA/STAND ALONE: CUR | CC6: NON INFRA/STAND ALONE: CUR | CD6: 95025 | CE6: N | CF6: N | CG6: N | CH6: CURRENT PAYMENTS | CI6: GOODS AND SERVICES | CJ6: GOODS AND SERVICES | CK6: HEALTH | CL6: HEALTH N.E.C. | CM6: HLTH:HEALTH N.E.C.
A7: National Departments | B7: Vote 16: Health | C7: DEPARTMENTAL RESPONSIBILITIES | D7: NATIONAL DEPARTMENT OF HEALTH | E7: P3:HIV AIDS,TB, MAT & CHILD HLTH | F7: CHILD YOUTH AND SCHOOL HLTH | G7: CHILD YOUTH & SCHOOL HEALTH | L7: CHILD YOUTH & SCHOOL HEALTH | M7: 32275025 | N7: CURRENT | O7: 2014/2015 | P7: 0 | Q7: 0 | R7: 0 | S7: 28000 | T7: 0.00 | U7: 28000 | V7: 0 | W7: 28335.21 | X7: -335.21 | Y7: REGIONAL IDENTIFIER | Z7: NAT FUNCTION:WHOLE COUNTRY DOM | AA7: NAT FUNCTION: WHOLE COUNTRY DOM | AE7: NAT FUNCTION: WHOLE COUNTRY DOM | AF7: 30001025 | AG7: EXPENDITURE:VOTED | AH7: DEPARTMENTAL APPROPRIATION | AI7: EARMARKED AND SPECIFIC FUNDS | AJ7: E & S FUNDS: NATIONAL | AK7: E&S/F:HEALTH | AL7: DOH:SPEC & EXCL APPROPRIATE | AM7: NHI GRANT:HPV VAC CO-ALL-IN-KIND | AN7: 853025 | AO7: DOH:HIV&AIDS, TB, MAT&CHILD HEAL | AP7: DOH:CHILD,YOUTH & SCHOOL HEALTH | AQ7: HPV VACCINE | AW7: HPV VACCINE | AX7: 30130025 | AY7: NON-ASSETS RELATED | AZ7: NON-ASSETS RELATED | BE7: NON-ASSETS RELATED | BF7: 235025 | BG7: NO PROJECTS | BH7: NO PROJECTS | BM7: NO PROJECTS | BN7: 4025 | BO7: PAYMENTS | BP7: PAYMENTS | BQ7: GOODS AND SERVICES | BR7: FLEET SERVICES(F/SER) | BS7: FLEET SERVICES | BT7: F/SER:TRANSACTION COSTS | BU7: F/SER:TRANSACTION COSTS | BV7: 3482025 | BW7: EXPENDITURE | BX7: NON INFRASTRUCTURE | BY7: NON INFRASTRUCTURE: CURRENT | BZ7: NON INFRASTRUCTURE: CURRENT | CA7: NON INFRA/STAND ALONE: CUR | CC7: NON INFRA/STAND ALONE: CUR | CD7: 95025 | CE7: N | CF7: N | CG7: N | CH7: CURRENT PAYMENTS | CI7: GOODS AND SERVICES | CJ7: GOODS AND SERVICES | CK7: HEALTH | CL7: HEALTH N.E.C. | CM7: HLTH:HEALTH N.E.C.
A8: National Departments | B8: Vote 16: Health | C8: DEPARTMENTAL RESPONSIBILITIES | D8: NATIONAL DEPARTMENT OF HEALTH | E8: P3:HIV AIDS,TB, MAT & CHILD HLTH | F8: CHILD YOUTH AND SCHOOL HLTH | G8: CHILD YOUTH & SCHOOL HEALTH | L8: CHILD YOUTH & SCHOOL HEALTH | M8: 32275025 | N8: CURRENT | O8: 2014/2015 | P8: 0 | Q8: 0 | R8: 0 | S8: 7951000 | T8: 0.00 | U8: 7951000 | V8: 0 | W8: 7951018.2 | X8: -18.19 | Y8: REGIONAL IDENTIFIER | Z8: NAT FUNCTION:WHOLE COUNTRY DOM | AA8: NAT FUNCTION: WHOLE COUNTRY DOM | AE8: NAT FUNCTION: WHOLE COUNTRY DOM | AF8: 30001025 | AG8: EXPENDITURE:VOTED | AH8: DEPARTMENTAL APPROPRIATION | AI8: EARMARKED AND SPECIFIC FUNDS | AJ8: E & S FUNDS: NATIONAL | AK8: E&S/F:HEALTH | AL8: DOH:SPEC & EXCL APPROPRIATE | AM8: NHI GRANT:HPV VAC CO-ALL-IN-KIND | AN8: 853025 | AO8: DOH:HIV&AIDS, TB, MAT&CHILD HEAL | AP8: DOH:CHILD,YOUTH & SCHOOL HEALTH | AQ8: HPV VACCINE | AW8: HPV VACCINE | AX8: 30130025 | AY8: NON-ASSETS RELATED | AZ8: NON-ASSETS RELATED | BE8: NON-ASSETS RELATED | BF8: 235025 | BG8: NO PROJECTS | BH8: NO PROJECTS | BM8: NO PROJECTS | BN8: 4025 | BO8: PAYMENTS | BP8: PAYMENTS | BQ8: GOODS AND SERVICES | BR8: FLEET SERVICES(F/SER) | BS8: FLEET SERVICES | BT8: F/SER: KILOMETERS | BU8: F/SER: KILOMETERS | BV8: 3498025 | BW8: EXPENDITURE | BX8: NON INFRASTRUCTURE | BY8: NON INFRASTRUCTURE: CURRENT | BZ8: NON INFRASTRUCTURE: CURRENT | CA8: NON INFRA/STAND ALONE: CUR | CC8: NON INFRA/STAND ALONE: CUR | CD8: 95025 | CE8: N | CF8: N | CG8: N | CH8: CURRENT PAYMENTS | CI8: GOODS AND SERVICES | CJ8: GOODS AND SERVICES | CK8: HEALTH | CL8: HEALTH N.E.C. | CM8: HLTH:HEALTH N.E.C.
A9: National Departments | B9: Vote 16: Health | C9: DEPARTMENTAL RESPONSIBILITIES | D9: NATIONAL DEPARTMENT OF HEALTH | E9: P3:HIV AIDS,TB, MAT & CHILD HLTH | F9: CHILD YOUTH AND SCHOOL HLTH | G9: CHILD YOUTH & SCHOOL HEALTH | L9: CHILD YOUTH & SCHOOL HEALTH | M9: 32275025 | N9: CURRENT | O9: 2014/2015 | P9: 0 | Q9: 100000 | R9: 0 | S9: -60000 | T9: 0.00 | U9: 40000 | V9: 14496 | W9: 25788.7 | X9: -284.7 | Y9: REGIONAL IDENTIFIER | Z9: NAT FUNCTION:WHOLE COUNTRY DOM | AA9: NAT FUNCTION: WHOLE COUNTRY DOM | AE9: NAT FUNCTION: WHOLE COUNTRY DOM | AF9: 30001025 | AG9: EXPENDITURE:VOTED | AH9: DEPARTMENTAL APPROPRIATION | AI9: EARMARKED AND SPECIFIC FUNDS | AJ9: E & S FUNDS: NATIONAL | AK9: E&S/F:HEALTH | AL9: DOH:SPEC & EXCL APPROPRIATE | AM9: NHI GRANT:HPV VAC CO-ALL-IN-KIND | AN9: 853025 | AO9: DOH:HIV&AIDS, TB, MAT&CHILD HEAL | AP9: DOH:CHILD,YOUTH & SCHOOL HEALTH | AQ9: HPV VACCINE | AW9: HPV VACCINE | AX9: 30130025 | AY9: NON-ASSETS RELATED | AZ9: NON-ASSETS RELATED | BE9: NON-ASSETS RELATED | BF9: 235025 | BG9: NO PROJECTS | BH9: NO PROJECTS | BM9: NO PROJECTS | BN9: 4025 | BO9: PAYMENTS | BP9: PAYMENTS | BQ9: GOODS AND SERVICES | BR9: CATERING:DEPARTML ACTIVITIES | BS9: CATERING:DEPARTML ACTIVITIES | BU9: CATERING:DEPARTML ACTIVITIES | BV9: 1080025 | BW9: EXPENDITURE | BX9: NON INFRASTRUCTURE | BY9: NON INFRASTRUCTURE: CURRENT | BZ9: NON INFRASTRUCTURE: CURRENT | CA9: NON INFRA/STAND ALONE: CUR | CC9: NON INFRA/STAND ALONE: CUR | CD9: 95025 | CE9: N | CF9: N | CG9: N | CH9: CURRENT PAYMENTS | CI9: GOODS AND SERVICES | CJ9: GOODS AND SERVICES | CK9: HEALTH | CL9: HEALTH N.E.C. | CM9: HLTH:HEALTH N.E.C.
A10: National Departments | B10: Vote 16: Health | C10: DEPARTMENTAL RESPONSIBILITIES | D10: NATIONAL DEPARTMENT OF HEALTH | E10: P3:HIV AIDS,TB, MAT & CHILD HLTH | F10: CHILD YOUTH AND SCHOOL HLTH | G10: CHILD YOUTH & SCHOOL HEALTH | L10: CHILD YOUTH & SCHOOL HEALTH | M10: 32275025 | N10: CURRENT | O10: 2014/2015 | P10: 0 | Q10: 100000 | R10: 0 | S10: 316000 | T10: 0.00 | U10: 416000 | V10: 0 | W10: 416367.66 | X10: -367.66 | Y10: REGIONAL IDENTIFIER | Z10: NAT FUNCTION:WHOLE COUNTRY DOM | AA10: NAT FUNCTION: WHOLE COUNTRY DOM | AE10: NAT FUNCTION: WHOLE COUNTRY DOM | AF10: 30001025 | AG10: EXPENDITURE:VOTED | AH10: DEPARTMENTAL APPROPRIATION | AI10: EARMARKED AND SPECIFIC FUNDS | AJ10: E & S FUNDS: NATIONAL | AK10: E&S/F:HEALTH | AL10: DOH:SPEC & EXCL APPROPRIATE | AM10: NHI GRANT:HPV VAC CO-ALL-IN-KIND | AN10: 853025 | AO10: DOH:HIV&AIDS, TB, MAT&CHILD HEAL | AP10: DOH:CHILD,YOUTH & SCHOOL HEALTH | AQ10: HPV VACCINE | AW10: HPV VACCINE | AX10: 30130025 | AY10: NON-ASSETS RELATED | AZ10: NON-ASSETS RELATED | BE10: NON-ASSETS RELATED | BF10: 235025 | BG10: NO PROJECTS | BH10: NO PROJECTS | BM10: NO PROJECTS | BN10: 4025 | BO10: PAYMENTS | BP10: PAYMENTS | BQ10: GOODS AND SERVICES | BR10: TRAVEL AND SUBSISTENCE | BS10: T&S DOMESTIC | BT10: T&S:DOM:TRANSPORT | BU10: T&S DOM:KM ALL(OWN TRANSPORT) | BV10: 3999025 | BW10: EXPENDITURE | BX10: NON INFRASTRUCTURE | BY10: NON INFRASTRUCTURE: CURRENT | BZ10: NON INFRASTRUCTURE: CURRENT | CA10: NON INFRA/STAND ALONE: CUR | CC10: NON INFRA/STAND ALONE: CUR | CD10: 95025 | CE10: N | CF10: N | CG10: N | CH10: CURRENT PAYMENTS | CI10: GOODS AND SERVICES | CJ10: GOODS AND SERVICES | CK10: HEALTH | CL10: HEALTH N.E.C. | CM10: HLTH:HEALTH N.E.C.
A11: National Departments | B11: Vote 16: Health | C11: DEPARTMENTAL RESPONSIBILITIES | D11: NATIONAL DEPARTMENT OF HEALTH | E11: P3:HIV AIDS,TB, MAT & CHILD HLTH | F11: CHILD YOUTH AND SCHOOL HLTH | G11: CHILD YOUTH & SCHOOL HEALTH | L11: CHILD YOUTH & SCHOOL HEALTH | M11: 32275025 | N11: CURRENT | O11: 2014/2015 | P11: 0 | Q11: 150000 | R11: 0 | S11: -150000 | T11: 0.00 | U11: 0 | V11: 0 | W11: 0 | X11: 0 | Y11: REGIONAL IDENTIFIER | Z11: NAT FUNCTION:WHOLE COUNTRY DOM | AA11: NAT FUNCTION: WHOLE COUNTRY DOM | AE11: NAT FUNCTION: WHOLE COUNTRY DOM | AF11: 30001025 | AG11: EXPENDITURE:VOTED | AH11: DEPARTMENTAL APPROPRIATION | AI11: EARMARKED AND SPECIFIC FUNDS | AJ11: E & S FUNDS: NATIONAL | AK11: E&S/F:HEALTH | AL11: DOH:SPEC & EXCL APPROPRIATE | AM11: NHI GRANT:HPV VAC CO-ALL-IN-KIND | AN11: 853025 | AO11: DOH:HIV&AIDS, TB, MAT&CHILD HEAL | AP11: DOH:CHILD,YOUTH & SCHOOL HEALTH | AQ11: HPV VACCINE | AW11: HPV VACCINE | AX11: 30130025 | AY11: MINOR ASSETS | AZ11: TANGIBLE MINOR ASSETS | BA11: MACHINERY & EQUIPMENT <R5000 | BB11: MACHINERY&EQUIPMENT<R5000 | BC11: OTHER:MACHINERY & EQP<R5000 | BD11: EQP<R5000:CONTAINERS | BE11: EQP<R5000: CONTAINERS | BF11: 30042025 | BG11: NO PROJECTS | BH11: NO PROJECTS | BM11: NO PROJECTS | BN11: 4025 | BO11: PAYMENTS | BP11: PAYMENTS | BQ11: GOODS AND SERVICES | BR11: MINOR ASSETS | BS11: MACHINERY & EQUIPMENT<R5000 | BT11: EQP<R5000:CONTAINERS | BU11: EQP<R5000:CONTAINERS | BV11: 3746025 | BW11: EXPENDITURE | BX11: NON INFRASTRUCTURE | BY11: NON INFRASTRUCTURE: CURRENT | BZ11: NON INFRASTRUCTURE: CURRENT | CA11: NON INFRA/STAND ALONE: CUR | CC11: NON INFRA/STAND ALONE: CUR | CD11: 95025 | CE11: N | CF11: N | CG11: N | CH11: Total Expenditure = 0 | CI11: Total Expenditure = 0 | CJ11: Total Expenditure = 0 | CK11: HEALTH | CL11: HEALTH N.E.C. | CM11: HLTH:HEALTH N.E.C.
A12: National Departments | B12: Vote 16: Health | C12: DEPARTMENTAL RESPONSIBILITIES | D12: NATIONAL DEPARTMENT OF HEALTH | E12: P3:HIV AIDS,TB, MAT & CHILD HLTH | F12: CHILD YOUTH AND SCHOOL HLTH | G12: CHILD YOUTH & SCHOOL HEALTH | L12: CHILD YOUTH & SCHOOL HEALTH | M12: 32275025 | N12: CURRENT | O12: 2014/2015 | P12: 0 | Q12: 200000 | R12: 0 | S12: -138000 | T12: 0.00 | U12: 62000 | V12: 0 | W12: 62603.72 | X12: -603.72 | Y12: REGIONAL IDENTIFIER | Z12: NAT FUNCTION:WHOLE COUNTRY DOM | AA12: NAT FUNCTION: WHOLE COUNTRY DOM | AE12: NAT FUNCTION: WHOLE COUNTRY DOM | AF12: 30001025 | AG12: EXPENDITURE:VOTED | AH12: DEPARTMENTAL APPROPRIATION | AI12: EARMARKED AND SPECIFIC FUNDS | AJ12: E & S FUNDS: NATIONAL | AK12: E&S/F:HEALTH | AL12: DOH:SPEC & EXCL APPROPRIATE | AM12: NHI GRANT:HPV VAC CO-ALL-IN-KIND | AN12: 853025 | AO12: DOH:HIV&AIDS, TB, MAT&CHILD HEAL | AP12: DOH:CHILD,YOUTH & SCHOOL HEALTH | AQ12: HPV VACCINE | AW12: HPV VACCINE | AX12: 30130025 | AY12: NON-ASSETS RELATED | AZ12: NON-ASSETS RELATED | BE12: NON-ASSETS RELATED | BF12: 235025 | BG12: NO PROJECTS | BH12: NO PROJECTS | BM12: NO PROJECTS | BN12: 4025 | BO12: PAYMENTS | BP12: PAYMENTS | BQ12: GOODS AND SERVICES | BR12: TRAVEL AND SUBSISTENCE | BS12: T&S DOMESTIC: NON EMLOYEES | BT12: T&S:DOM NON EMPL:TRANSPORT | BU12: T&S:DOM NON EMPL:TRANSPORT | BV12: 3357025 | BW12: EXPENDITURE | BX12: NON INFRASTRUCTURE | BY12: NON INFRASTRUCTURE: CURRENT | BZ12: NON INFRASTRUCTURE: CURRENT | CA12: NON INFRA/STAND ALONE: CUR | CC12: NON INFRA/STAND ALONE: CUR | CD12: 95025 | CE12: N | CF12: N | CG12: N | CH12: CURRENT PAYMENTS | CI12: GOODS AND SERVICES | CJ12: GOODS AND SERVICES | CK12: HEALTH | CL12: HEALTH N.E.C. | CM12: HLTH:HEALTH N.E.C.
A13: National Departments | B13: Vote 16: Health | C13: DEPARTMENTAL RESPONSIBILITIES | D13: NATIONAL DEPARTMENT OF HEALTH | E13: P3:HIV AIDS,TB, MAT & CHILD HLTH | F13: CHILD YOUTH AND SCHOOL HLTH | G13: CHILD YOUTH & SCHOOL HEALTH | L13: CHILD YOUTH & SCHOOL HEALTH | M13: 32275025 | N13: CURRENT | O13: 2014/2015 | P13: 0 | Q13: 250000 | R13: 0 | S13: -240000 | T13: 0.00 | U13: 10000 | V13: 0 | W13: 8339.53 | X13: 1660.47 | Y13: REGIONAL IDENTIFIER | Z13: NAT FUNCTION:WHOLE COUNTRY DOM | AA13: NAT FUNCTION: WHOLE COUNTRY DOM | AE13: NAT FUNCTION: WHOLE COUNTRY DOM | AF13: 30001025 | AG13: EXPENDITURE:VOTED | AH13: DEPARTMENTAL APPROPRIATION | AI13: EARMARKED AND SPECIFIC FUNDS | AJ13: E & S FUNDS: NATIONAL | AK13: E&S/F:HEALTH | AL13: DOH:SPEC & EXCL APPROPRIATE | AM13: NHI GRANT:HPV VAC CO-ALL-IN-KIND | AN13: 853025 | AO13: DOH:HIV&AIDS, TB, MAT&CHILD HEAL | AP13: DOH:CHILD,YOUTH & SCHOOL HEALTH | AQ13: HPV VACCINE | AW13: HPV VACCINE | AX13: 30130025 | AY13: NON-ASSETS RELATED | AZ13: NON-ASSETS RELATED | BE13: NON-ASSETS RELATED | BF13: 235025 | BG13: NO PROJECTS | BH13: NO PROJECTS | BM13: NO PROJECTS | BN13: 4025 | BO13: PAYMENTS | BP13: PAYMENTS | BQ13: GOODS AND SERVICES | BR13: TRAVEL AND SUBSISTENCE | BS13: T&S DOMESTIC: NON EMLOYEES | BT13: T&S DOM NON EMPL:ACCOMMODATION | BU13: T&S DOM NON EMPL:ACCOMMODATION | BV13: 3363025 | BW13: EXPENDITURE | BX13: NON INFRASTRUCTURE | BY13: NON INFRASTRUCTURE: CURRENT | BZ13: NON INFRASTRUCTURE: CURRENT | CA13: NON INFRA/STAND ALONE: CUR | CC13: NON INFRA/STAND ALONE: CUR | CD13: 95025 | CE13: N | CF13: N | CG13: N | CH13: CURRENT PAYMENTS | CI13: GOODS AND SERVICES | CJ13: GOODS AND SERVICES | CK13: HEALTH | CL13: HEALTH N.E.C. | CM13: HLTH:HEALTH N.E.C.
A14: National Departments | B14: Vote 16: Health | C14: DEPARTMENTAL RESPONSIBILITIES | D14: NATIONAL DEPARTMENT OF HEALTH | E14: P3:HIV AIDS,TB, MAT & CHILD HLTH | F14: CHILD YOUTH AND SCHOOL HLTH | G14: CHILD YOUTH & SCHOOL HEALTH | L14: CHILD YOUTH & SCHOOL HEALTH | M14: 32275025 | N14: CURRENT | O14: 2014/2015 | P14: 0 | Q14: 300000 | R14: 0 | S14: -300000 | T14: 0.00 | U14: 0 | V14: 0 | W14: 0 | X14: 0 | Y14: REGIONAL IDENTIFIER | Z14: NAT FUNCTION:WHOLE COUNTRY DOM | AA14: NAT FUNCTION: WHOLE COUNTRY DOM | AE14: NAT FUNCTION: WHOLE COUNTRY DOM | AF14: 30001025 | AG14: EXPENDITURE:VOTED | AH14: DEPARTMENTAL APPROPRIATION | AI14: EARMARKED AND SPECIFIC FUNDS | AJ14: E & S FUNDS: NATIONAL | AK14: E&S/F:HEALTH | AL14: DOH:SPEC & EXCL APPROPRIATE | AM14: NHI GRANT:HPV VAC CO-ALL-IN-KIND | AN14: 853025 | AO14: DOH:HIV&AIDS, TB, MAT&CHILD HEAL | AP14: DOH:CHILD,YOUTH & SCHOOL HEALTH | AQ14: HPV VACCINE | AW14: HPV VACCINE | AX14: 30130025 | AY14: NON-ASSETS RELATED | AZ14: NON-ASSETS RELATED | BE14: NON-ASSETS RELATED | BF14: 235025 | BG14: NO PROJECTS | BH14: NO PROJECTS | BM14: NO PROJECTS | BN14: 4025 | BO14: PAYMENTS | BP14: PAYMENTS | BQ14: GOODS AND SERVICES | BR14: OPERATING PAYMENTS | BS14: O/P:COURIER & DELIVERY SERVS | BT14: O/P:COURIER & DELIVERY SERVS | BU14: O/P:COURIER & DELIVERY SERVS | BV14: 2138025 | BW14: EXPENDITURE | BX14: NON INFRASTRUCTURE | BY14: NON INFRASTRUCTURE: CURRENT | BZ14: NON INFRASTRUCTURE: CURRENT | CA14: NON INFRA/STAND ALONE: CUR | CC14: NON INFRA/STAND ALONE: CUR | CD14: 95025 | CE14: N | CF14: N | CG14: N | CH14: Total Expenditure = 0 | CI14: Total Expenditure = 0 | CJ14: Total Expenditure = 0 | CK14: HEALTH | CL14: HEALTH N.E.C. | CM14: HLTH:HEALTH N.E.C.
A15: National Departments | B15: Vote 16: Health | C15: DEPARTMENTAL RESPONSIBILITIES | D15: NATIONAL DEPARTMENT OF HEALTH | E15: P3:HIV AIDS,TB, MAT & CHILD HLTH | F15: CHILD YOUTH AND SCHOOL HLTH | G15: CHILD YOUTH & SCHOOL HEALTH | L15: CHILD YOUTH & SCHOOL HEALTH | M15: 32275025 | N15: CURRENT | O15: 2014/2015 | P15: 0 | Q15: 550000 | R15: 0 | S15: -543000 | T15: 0.00 | U15: 7000 | V15: 0 | W15: 7200 | X15: -200 | Y15: REGIONAL IDENTIFIER | Z15: NAT FUNCTION:WHOLE COUNTRY DOM | AA15: NAT FUNCTION: WHOLE COUNTRY DOM | AE15: NAT FUNCTION: WHOLE COUNTRY DOM | AF15: 30001025 | AG15: EXPENDITURE:VOTED | AH15: DEPARTMENTAL APPROPRIATION | AI15: EARMARKED AND SPECIFIC FUNDS | AJ15: E & S FUNDS: NATIONAL | AK15: E&S/F:HEALTH | AL15: DOH:SPEC & EXCL APPROPRIATE | AM15: NHI GRANT:HPV VAC CO-ALL-IN-KIND | AN15: 853025 | AO15: DOH:HIV&AIDS, TB, MAT&CHILD HEAL | AP15: DOH:CHILD,YOUTH & SCHOOL HEALTH | AQ15: HPV VACCINE | AW15: HPV VACCINE | AX15: 30130025 | AY15: NON-ASSETS RELATED | AZ15: NON-ASSETS RELATED | BE15: NON-ASSETS RELATED | BF15: 235025 | BG15: NO PROJECTS | BH15: NO PROJECTS | BM15: NO PROJECTS | BN15: 4025 | BO15: PAYMENTS | BP15: PAYMENTS | BQ15: GOODS AND SERVICES | BR15: COMMUNICATION | BS15: COM:CELL CONTRACT (SUBSCR&CALLS) | BT15: COM:CELL CONTR(SUBSCR&CALLS) | BU15: COM:CELL CONTR(SUBSCR&CALLS) | BV15: 2690025 | BW15: EXPENDITURE | BX15: NON INFRASTRUCTURE | BY15: NON INFRASTRUCTURE: CURRENT | BZ15: NON INFRASTRUCTURE: CURRENT | CA15: NON INFRA/STAND ALONE: CUR | CC15: NON INFRA/STAND ALONE: CUR | CD15: 95025 | CE15: N | CF15: N | CG15: N | CH15: CURRENT PAYMENTS | CI15: GOODS AND SERVICES | CJ15: GOODS AND SERVICES | CK15: HEALTH | CL15: HEALTH N.E.C. | CM15: HLTH:HEALTH N.E.C.
A16: National Departments | B16: Vote 16: Health | C16: DEPARTMENTAL RESPONSIBILITIES | D16: NATIONAL DEPARTMENT OF HEALTH | E16: P3:HIV AIDS,TB, MAT & CHILD HLTH | F16: CHILD YOUTH AND SCHOOL HLTH | G16: CHILD YOUTH & SCHOOL HEALTH | L16: CHILD YOUTH & SCHOOL HEALTH | M16: 32275025 | N16: CURRENT | O16: 2014/2015 | P16: 0 | Q16: 850000 | R16: 0 | S16: -850000 | T16: 0.00 | U16: 0 | V16: 0 | W16: 0 | X16: 0 | Y16: REGIONAL IDENTIFIER | Z16: NAT FUNCTION:WHOLE COUNTRY DOM | AA16: NAT FUNCTION: WHOLE COUNTRY DOM | AE16: NAT FUNCTION: WHOLE COUNTRY DOM | AF16: 30001025 | AG16: EXPENDITURE:VOTED | AH16: DEPARTMENTAL APPROPRIATION | AI16: EARMARKED AND SPECIFIC FUNDS | AJ16: E & S FUNDS: NATIONAL | AK16: E&S/F:HEALTH | AL16: DOH:SPEC & EXCL APPROPRIATE | AM16: NHI GRANT:HPV VAC CO-ALL-IN-KIND | AN16: 853025 | AO16: DOH:HIV&AIDS, TB, MAT&CHILD HEAL | AP16: DOH:CHILD,YOUTH & SCHOOL HEALTH | AQ16: HPV VACCINE | AW16: HPV VACCINE | AX16: 30130025 | AY16: MINOR ASSETS | AZ16: TANGIBLE MINOR ASSETS | BA16: MACHINERY & EQUIPMENT <R5000 | BB16: MACHINERY&EQUIPMENT<R5000 | BC16: OTHER:MACHINERY & EQP<R5000 | BD16: EQP<R5000:MEDICAL & ALLIED EQP | BE16: EQP<R5000:MEDICAL & ALLIED EQUIP | BF16: 30067025 | BG16: NO PROJECTS | BH16: NO PROJECTS | BM16: NO PROJECTS | BN16: 4025 | BO16: PAYMENTS | BP16: PAYMENTS | BQ16: GOODS AND SERVICES | BR16: MINOR ASSETS | BS16: MACHINERY & EQUIPMENT<R5000 | BT16: EQP<R5000:MEDICAL&ALLIED EQUIP | BU16: EQP<R5000:MED&ALLIED EQUIP | BV16: 3718025 | BW16: EXPENDITURE | BX16: NON INFRASTRUCTURE | BY16: NON INFRASTRUCTURE: CURRENT | BZ16: NON INFRASTRUCTURE: CURRENT | CA16: NON INFRA/STAND ALONE: CUR | CC16: NON INFRA/STAND ALONE: CUR | CD16: 95025 | CE16: N | CF16: N | CG16: N | CH16: Total Expenditure = 0 | CI16: Total Expenditure = 0 | CJ16: Total Expenditure = 0 | CK16: HEALTH | CL16: HEALTH N.E.C. | CM16: HLTH:HEALTH N.E.C.
A17: National Departments | B17: Vote 16: Health | C17: DEPARTMENTAL RESPONSIBILITIES | D17: NATIONAL DEPARTMENT OF HEALTH | E17: P3:HIV AIDS,TB, MAT & CHILD HLTH | F17: CHILD YOUTH AND SCHOOL HLTH | G17: CHILD YOUTH & SCHOOL HEALTH | L17: CHILD YOUTH & SCHOOL HEALTH | M17: 32275025 | N17: CURRENT | O17: 2014/2015 | P17: 0 | Q17: 1500000 | R17: 0 | S17: -828000 | T17: 0.00 | U17: 672000 | V17: 0 | W17: 672229 | X17: -229 | Y17: REGIONAL IDENTIFIER | Z17: NAT FUNCTION:WHOLE COUNTRY DOM | AA17: NAT FUNCTION: WHOLE COUNTRY DOM | AE17: NAT FUNCTION: WHOLE COUNTRY DOM | AF17: 30001025 | AG17: EXPENDITURE:VOTED | AH17: DEPARTMENTAL APPROPRIATION | AI17: EARMARKED AND SPECIFIC FUNDS | AJ17: E & S FUNDS: NATIONAL | AK17: E&S/F:HEALTH | AL17: DOH:SPEC & EXCL APPROPRIATE | AM17: NHI GRANT:HPV VAC CO-ALL-IN-KIND | AN17: 853025 | AO17: DOH:HIV&AIDS, TB, MAT&CHILD HEAL | AP17: DOH:CHILD,YOUTH & SCHOOL HEALTH | AQ17: HPV VACCINE | AW17: HPV VACCINE | AX17: 30130025 | AY17: NON-ASSETS RELATED | AZ17: NON-ASSETS RELATED | BE17: NON-ASSETS RELATED | BF17: 235025 | BG17: NO PROJECTS | BH17: NO PROJECTS | BM17: NO PROJECTS | BN17: 4025 | BO17: PAYMENTS | BP17: PAYMENTS | BQ17: GOODS AND SERVICES | BR17: OPERATING PAYMENTS | BS17: O/P:PRINTING&PUBLICATIONS SERV | BT17: O/P:PRINTING&PUBLICAT SERV | BU17: O/P:PRINTING&PUBLICAT SERV | BV17: 2126025 | BW17: EXPENDITURE | BX17: NON INFRASTRUCTURE | BY17: NON INFRASTRUCTURE: CURRENT | BZ17: NON INFRASTRUCTURE: CURRENT | CA17: NON INFRA/STAND ALONE: CUR | CC17: NON INFRA/STAND ALONE: CUR | CD17: 95025 | CE17: N | CF17: N | CG17: N | CH17: CURRENT PAYMENTS | CI17: GOODS AND SERVICES | CJ17: GOODS AND SERVICES | CK17: HEALTH | CL17: HEALTH N.E.C. | CM17: HLTH:HEALTH N.E.C.
A18: National Departments | B18: Vote 16: Health | C18: DEPARTMENTAL RESPONSIBILITIES | D18: NATIONAL DEPARTMENT OF HEALTH | E18: P3:HIV AIDS,TB, MAT & CHILD HLTH | F18: CHILD YOUTH AND SCHOOL HLTH | G18: CHILD YOUTH & SCHOOL HEALTH | L18: CHILD YOUTH & SCHOOL HEALTH | M18: 32275025 | N18: CURRENT | O18: 2014/2015 | P18: 0 | Q18: 2000000 | R18: 0 | S18: -2000000 | T18: 0.00 | U18: 0 | V18: 0 | W18: 0 | X18: 0 | Y18: REGIONAL IDENTIFIER | Z18: NAT FUNCTION:WHOLE COUNTRY DOM | AA18: NAT FUNCTION: WHOLE COUNTRY DOM | AE18: NAT FUNCTION: WHOLE COUNTRY DOM | AF18: 30001025 | AG18: EXPENDITURE:VOTED | AH18: DEPARTMENTAL APPROPRIATION | AI18: EARMARKED AND SPECIFIC FUNDS | AJ18: E & S FUNDS: NATIONAL | AK18: E&S/F:HEALTH | AL18: DOH:SPEC & EXCL APPROPRIATE | AM18: NHI GRANT:HPV VAC CO-ALL-IN-KIND | AN18: 853025 | AO18: DOH:HIV&AIDS, TB, MAT&CHILD HEAL | AP18: DOH:CHILD,YOUTH & SCHOOL HEALTH | AQ18: HPV VACCINE | AW18: HPV VACCINE | AX18: 30130025 | AY18: MINOR ASSETS | AZ18: TANGIBLE MINOR ASSETS | BA18: MACHINERY & EQUIPMENT <R5000 | BB18: MACHINERY&EQUIPMENT<R5000 | BC18: OTHER:MACHINERY & EQP<R5000 | BD18: EQP<R5000:CELLULAR PHONES | BE18: EQP<R5000: CELLULAR PHONES | BF18: 30028025 | BG18: NO PROJECTS | BH18: NO PROJECTS | BM18: NO PROJECTS | BN18: 4025 | BO18: PAYMENTS | BP18: PAYMENTS | BQ18: GOODS AND SERVICES | BR18: MINOR ASSETS | BS18: MACHINERY & EQUIPMENT<R5000 | BT18: EQP<R5000:CELLULAR PHONES | BU18: EQP<R5000:CELLULAR PHONES | BV18: 3769025 | BW18: EXPENDITURE | BX18: NON INFRASTRUCTURE | BY18: NON INFRASTRUCTURE: CURRENT | BZ18: NON INFRASTRUCTURE: CURRENT | CA18: NON INFRA/STAND ALONE: CUR | CC18: NON INFRA/STAND ALONE: CUR | CD18: 95025 | CE18: Y | CF18: N | CG18: Y | CH18: Total Expenditure = 0 | CI18: Total Expenditure = 0 | CJ18: Total Expenditure = 0 | CK18: HEALTH | CL18: HEALTH N.E.C. | CM18: HLTH:HEALTH N.E.C.
A19: National Departments | B19: Vote 16: Health | C19: DEPARTMENTAL RESPONSIBILITIES | D19: NATIONAL DEPARTMENT OF HEALTH | E19: P3:HIV AIDS,TB, MAT & CHILD HLTH | F19: CHILD YOUTH AND SCHOOL HLTH | G19: CHILD YOUTH & SCHOOL HEALTH | L19: CHILD YOUTH & SCHOOL HEALTH | M19: 32275025 | N19: CURRENT | O19: 2014/2015 | P19: 0 | Q19: 3500000 | R19: 0 | S19: -3500000 | T19: 0.00 | U19: 0 | V19: 0 | W19: 0 | X19: 0 | Y19: REGIONAL IDENTIFIER | Z19: NAT FUNCTION:WHOLE COUNTRY DOM | AA19: NAT FUNCTION: WHOLE COUNTRY DOM | AE19: NAT FUNCTION: WHOLE COUNTRY DOM | AF19: 30001025 | AG19: EXPENDITURE:VOTED | AH19: DEPARTMENTAL APPROPRIATION | AI19: EARMARKED AND SPECIFIC FUNDS | AJ19: E & S FUNDS: NATIONAL | AK19: E&S/F:HEALTH | AL19: DOH:SPEC & EXCL APPROPRIATE | AM19: NHI GRANT:HPV VAC CO-ALL-IN-KIND | AN19: 853025 | AO19: DOH:HIV&AIDS, TB, MAT&CHILD HEAL | AP19: DOH:CHILD,YOUTH & SCHOOL HEALTH | AQ19: HPV VACCINE | AW19: HPV VACCINE | AX19: 30130025 | AY19: NON-ASSETS RELATED | AZ19: NON-ASSETS RELATED | BE19: NON-ASSETS RELATED | BF19: 235025 | BG19: NO PROJECTS | BH19: NO PROJECTS | BM19: NO PROJECTS | BN19: 4025 | BO19: PAYMENTS | BP19: PAYMENTS | BQ19: GOODS AND SERVICES | BR19: COMMUNICATION | BS19: COM:RADIO AND TV TRANSMISSIONS | BT19: COM:RADIO & TV TRANSMISSIONS | BU19: COM:RADIO & TV TRANSMISSIONS | BV19: 2694025 | BW19: EXPENDITURE | BX19: NON INFRASTRUCTURE | BY19: NON INFRASTRUCTURE: CURRENT | BZ19: NON INFRASTRUCTURE: CURRENT | CA19: NON INFRA/STAND ALONE: CUR | CC19: NON INFRA/STAND ALONE: CUR | CD19: 95025 | CE19: N | CF19: N | CG19: N | CH19: Total Expenditure = 0 | CI19: Total Expenditure = 0 | CJ19: Total Expenditure = 0 | CK19: HEALTH | CL19: HEALTH N.E.C. | CM19: HLTH:HEALTH N.E.C.
A20: National Departments | B20: Vote 16: Health | C20: DEPARTMENTAL RESPONSIBILITIES | D20: NATIONAL DEPARTMENT OF HEALTH | E20: P3:HIV AIDS,TB, MAT & CHILD HLTH | F20: CHILD YOUTH AND SCHOOL HLTH | G20: CHILD YOUTH & SCHOOL HEALTH | L20: CHILD YOUTH & SCHOOL HEALTH | M20: 32275025 | N20: CURRENT | O20: 2014/2015 | P20: 0 | Q20: 4000000 | R20: 0 | S20: -4000000 | T20: 0.00 | U20: 0 | V20: 0 | W20: 0 | X20: 0 | Y20: REGIONAL IDENTIFIER | Z20: NAT FUNCTION:WHOLE COUNTRY DOM | AA20: NAT FUNCTION: WHOLE COUNTRY DOM | AE20: NAT FUNCTION: WHOLE COUNTRY DOM | AF20: 30001025 | AG20: EXPENDITURE:VOTED | AH20: DEPARTMENTAL APPROPRIATION | AI20: EARMARKED AND SPECIFIC FUNDS | AJ20: E & S FUNDS: NATIONAL | AK20: E&S/F:HEALTH | AL20: DOH:SPEC & EXCL APPROPRIATE | AM20: NHI GRANT:HPV VAC CO-ALL-IN-KIND | AN20: 853025 | AO20: DOH:HIV&AIDS, TB, MAT&CHILD HEAL | AP20: DOH:CHILD,YOUTH & SCHOOL HEALTH | AQ20: HPV VACCINE | AW20: HPV VACCINE | AX20: 30130025 | AY20: NON-ASSETS RELATED | AZ20: NON-ASSETS RELATED | BE20: NON-ASSETS RELATED | BF20: 235025 | BG20: NO PROJECTS | BH20: NO PROJECTS | BM20: NO PROJECTS | BN20: 4025 | BO20: PAYMENTS | BP20: PAYMENTS | BQ20: GOODS AND SERVICES | BR20: INV:MEDICAL SUPPLIES | BS20: INV MED:SURGICAL/MEDICAL SUPPLS | BT20: INV MED:SURGICL/MEDIC SUPPLS | BU20: INV MED:SURGICL/MEDIC SUPPLS | BV20: 2347025 | BW20: EXPENDITURE | BX20: NON INFRASTRUCTURE | BY20: NON INFRASTRUCTURE: CURRENT | BZ20: NON INFRASTRUCTURE: CURRENT | CA20: NON INFRA/STAND ALONE: CUR | CC20: NON INFRA/STAND ALONE: CUR | CD20: 95025 | CE20: N | CF20: N | CG20: N | CH20: Total Expenditure = 0 | CI20: Total Expenditure = 0 | CJ20: Total Expenditure = 0 | CK20: HEALTH | CL20: HEALTH N.E.C. | CM20: HLTH:HEALTH N.E.C.
A21: National Departments | B21: Vote 16: Health | C21: DEPARTMENTAL RESPONSIBILITIES | D21: NATIONAL DEPARTMENT OF HEALTH | E21: P3:HIV AIDS,TB, MAT & CHILD HLTH | F21: CHILD YOUTH AND SCHOOL HLTH | G21: CHILD YOUTH & SCHOOL HEALTH | L21: CHILD YOUTH & SCHOOL HEALTH | M21: 32275025 | N21: CURRENT | O21: 2014/2015 | P21: 0 | Q21: 4000000 | R21: 0 | S21: -3537000 | T21: 0.00 | U21: 463000 | V21: 0 | W21: 463137.97 | X21: -137.97 | Y21: REGIONAL IDENTIFIER | Z21: NAT FUNCTION:WHOLE COUNTRY DOM | AA21: NAT FUNCTION: WHOLE COUNTRY DOM | AE21: NAT FUNCTION: WHOLE COUNTRY DOM | AF21: 30001025 | AG21: EXPENDITURE:VOTED | AH21: DEPARTMENTAL APPROPRIATION | AI21: EARMARKED AND SPECIFIC FUNDS | AJ21: E & S FUNDS: NATIONAL | AK21: E&S/F:HEALTH | AL21: DOH:SPEC & EXCL APPROPRIATE | AM21: NHI GRANT:HPV VAC CO-ALL-IN-KIND | AN21: 853025 | AO21: DOH:HIV&AIDS, TB, MAT&CHILD HEAL | AP21: DOH:CHILD,YOUTH & SCHOOL HEALTH | AQ21: HPV VACCINE | AW21: HPV VACCINE | AX21: 30130025 | AY21: NON-ASSETS RELATED | AZ21: NON-ASSETS RELATED | BE21: NON-ASSETS RELATED | BF21: 235025 | BG21: NO PROJECTS | BH21: NO PROJECTS | BM21: NO PROJECTS | BN21: 4025 | BO21: PAYMENTS | BP21: PAYMENTS | BQ21: GOODS AND SERVICES | BR21: FLEET SERVICES(F/SER) | BS21: FLEET SERVICES | BT21: F/SER:FUEL,OIL&GREASE | BU21: F/SER:FUEL,OIL&GREASE | BV21: 3488025 | BW21: EXPENDITURE | BX21: NON INFRASTRUCTURE | BY21: NON INFRASTRUCTURE: CURRENT | BZ21: NON INFRASTRUCTURE: CURRENT | CA21: NON INFRA/STAND ALONE: CUR | CC21: NON INFRA/STAND ALONE: CUR | CD21: 95025 | CE21: N | CF21: N | CG21: N | CH21: CURRENT PAYMENTS | CI21: GOODS AND SERVICES | CJ21: GOODS AND SERVICES | CK21: HEALTH | CL21: HEALTH N.E.C. | CM21: HLTH:HEALTH N.E.C.
A22: National Departments | B22: Vote 16: Health | C22: DEPARTMENTAL RESPONSIBILITIES | D22: NATIONAL DEPARTMENT OF HEALTH | E22: P3:HIV AIDS,TB, MAT & CHILD HLTH | F22: CHILD YOUTH AND SCHOOL HLTH | G22: CHILD YOUTH & SCHOOL HEALTH | L22: CHILD YOUTH & SCHOOL HEALTH | M22: 32275025 | N22: CURRENT | O22: 2014/2015 | P22: 0 | Q22: 5000000 | R22: 0 | S22: -2396000 | T22: 0.00 | U22: 2604000 | V22: 0 | W22: 2603615.4 | X22: 384.65 | Y22: REGIONAL IDENTIFIER | Z22: NAT FUNCTION:WHOLE COUNTRY DOM | AA22: NAT FUNCTION: WHOLE COUNTRY DOM | AE22: NAT FUNCTION: WHOLE COUNTRY DOM | AF22: 30001025 | AG22: EXPENDITURE:VOTED | AH22: DEPARTMENTAL APPROPRIATION | AI22: EARMARKED AND SPECIFIC FUNDS | AJ22: E & S FUNDS: NATIONAL | AK22: E&S/F:HEALTH | AL22: DOH:SPEC & EXCL APPROPRIATE | AM22: NHI GRANT:HPV VAC CO-ALL-IN-KIND | AN22: 853025 | AO22: DOH:HIV&AIDS, TB, MAT&CHILD HEAL | AP22: DOH:CHILD,YOUTH & SCHOOL HEALTH | AQ22: HPV VACCINE | AW22: HPV VACCINE | AX22: 30130025 | AY22: NON-ASSETS RELATED | AZ22: NON-ASSETS RELATED | BE22: NON-ASSETS RELATED | BF22: 235025 | BG22: NO PROJECTS | BH22: NO PROJECTS | BM22: NO PROJECTS | BN22: 4025 | BO22: PAYMENTS | BP22: PAYMENTS | BQ22: GOODS AND SERVICES | BR22: AGENCY&SUPRT/OUTSOURCED SERVICES | BS22: A&S/O/S:PERSONNEL&LABOUR | BT22: A&S/O/S:PERSONNEL&LABOUR | BU22: A&S/O/S:PERSONNEL&LABOUR | BV22: 2496025 | BW22: EXPENDITURE | BX22: NON INFRASTRUCTURE | BY22: NON INFRASTRUCTURE: CURRENT | BZ22: NON INFRASTRUCTURE: CURRENT | CA22: NON INFRA/STAND ALONE: CUR | CC22: NON INFRA/STAND ALONE: CUR | CD22: 95025 | CE22: N | CF22: N | CG22: N | CH22: CURRENT PAYMENTS | CI22: GOODS AND SERVICES | CJ22: GOODS AND SERVICES | CK22: HEALTH | CL22: HEALTH N.E.C. | CM22: HLTH:HEALTH N.E.C.
A23: National Departments | B23: Vote 16: Health | C23: DEPARTMENTAL RESPONSIBILITIES | D23: NATIONAL DEPARTMENT OF HEALTH | E23: P3:HIV AIDS,TB, MAT & CHILD HLTH | F23: CHILD YOUTH AND SCHOOL HLTH | G23: CHILD YOUTH & SCHOOL HEALTH | L23: CHILD YOUTH & SCHOOL HEALTH | M23: 32275025 | N23: CURRENT | O23: 2014/2015 | P23: 0 | Q23: 25000000 | R23: 0 | S23: -25000000 | T23: 0.00 | U23: 0 | V23: 0 | W23: 0 | X23: 0 | Y23: REGIONAL IDENTIFIER | Z23: NAT FUNCTION:WHOLE COUNTRY DOM | AA23: NAT FUNCTION: WHOLE COUNTRY DOM | AE23: NAT FUNCTION: WHOLE COUNTRY DOM | AF23: 30001025 | AG23: EXPENDITURE:VOTED | AH23: DEPARTMENTAL APPROPRIATION | AI23: EARMARKED AND SPECIFIC FUNDS | AJ23: E & S FUNDS: NATIONAL | AK23: E&S/F:HEALTH | AL23: DOH:SPEC & EXCL APPROPRIATE | AM23: NHI GRANT:HPV VAC CO-ALL-IN-KIND | AN23: 853025 | AO23: DOH:HIV&AIDS, TB, MAT&CHILD HEAL | AP23: DOH:CHILD,YOUTH & SCHOOL HEALTH | AQ23: HPV VACCINE | AW23: HPV VACCINE | AX23: 30130025 | AY23: NON-ASSETS RELATED | AZ23: NON-ASSETS RELATED | BE23: NON-ASSETS RELATED | BF23: 235025 | BG23: NO PROJECTS | BH23: NO PROJECTS | BM23: NO PROJECTS | BN23: 4025 | BO23: PAYMENTS | BP23: PAYMENTS | BQ23: GOODS AND SERVICES | BR23: TRAVEL AND SUBSISTENCE | BS23: T&S DOMESTIC | BT23: T&S:DOM:TRANSPORT | BU23: T&S DOM:CAR RENT | BV23: 3997025 | BW23: EXPENDITURE | BX23: NON INFRASTRUCTURE | BY23: NON INFRASTRUCTURE: CURRENT | BZ23: NON INFRASTRUCTURE: CURRENT | CA23: NON INFRA/STAND ALONE: CUR | CC23: NON INFRA/STAND ALONE: CUR | CD23: 95025 | CE23: N | CF23: N | CG23: N | CH23: Total Expenditure = 0 | CI23: Total Expenditure = 0 | CJ23: Total Expenditure = 0 | CK23: HEALTH | CL23: HEALTH N.E.C. | CM23: HLTH:HEALTH N.E.C.
A24: National Departments | B24: Vote 16: Health | C24: DEPARTMENTAL RESPONSIBILITIES | D24: NATIONAL DEPARTMENT OF HEALTH | E24: P3:HIV AIDS,TB, MAT & CHILD HLTH | F24: CHILD YOUTH AND SCHOOL HLTH | G24: CHILD YOUTH & SCHOOL HEALTH | L24: CHILD YOUTH & SCHOOL HEALTH | M24: 32275025 | N24: CURRENT | O24: 2014/2015 | P24: 10000 | Q24: 0 | R24: 0 | S24: -10000 | T24: 0.00 | U24: 0 | V24: 0 | W24: 0 | X24: 0 | Y24: REGIONAL IDENTIFIER | Z24: NAT FUNCTION:WHOLE COUNTRY DOM | AA24: NAT FUNCTION: WHOLE COUNTRY DOM | AE24: NAT FUNCTION: WHOLE COUNTRY DOM | AF24: 30001025 | AG24: EXPENDITURE:VOTED | AH24: DEPARTMENTAL APPROPRIATION | AI24: EARMARKED AND SPECIFIC FUNDS | AJ24: E & S FUNDS: NATIONAL | AK24: E&S/F:HEALTH | AL24: DOH:SPEC & EXCL APPROPRIATE | AM24: NHI GRANT:HPV VAC CO-ALL-IN-KIND | AN24: 853025 | AO24: DOH:HIV&AIDS, TB, MAT&CHILD HEAL | AP24: DOH:CHILD,YOUTH & SCHOOL HEALTH | AQ24: HPV VACCINE | AW24: HPV VACCINE | AX24: 30130025 | AY24: NON-ASSETS RELATED | AZ24: NON-ASSETS RELATED | BE24: NON-ASSETS RELATED | BF24: 235025 | BG24: NO PROJECTS | BH24: NO PROJECTS | BM24: NO PROJECTS | BN24: 4025 | BO24: PAYMENTS | BP24: PAYMENTS | BQ24: GOODS AND SERVICES | BR24: CONS:STA,PRINT&OFF SUP | BS24: CONS:SP&OS:STATIONERY | BT24: CONS:SP&OS:STATIONERY | BU24: CONS:SP&OS:STATIONERY | BV24: 2245025 | BW24: EXPENDITURE | BX24: NON INFRASTRUCTURE | BY24: NON INFRASTRUCTURE: CURRENT | BZ24: NON INFRASTRUCTURE: CURRENT | CA24: NON INFRA/STAND ALONE: CUR | CC24: NON INFRA/STAND ALONE: CUR | CD24: 95025 | CE24: N | CF24: N | CG24: N | CH24: Total Expenditure = 0 | CI24: Total Expenditure = 0 | CJ24: Total Expenditure = 0 | CK24: HEALTH | CL24: HEALTH N.E.C. | CM24: HLTH:HEALTH N.E.C.
A25: National Departments | B25: Vote 16: Health | C25: DEPARTMENTAL RESPONSIBILITIES | D25: NATIONAL DEPARTMENT OF HEALTH | E25: P3:HIV AIDS,TB, MAT & CHILD HLTH | F25: CHILD YOUTH AND SCHOOL HLTH | G25: CHILD YOUTH & SCHOOL HEALTH | L25: CHILD YOUTH & SCHOOL HEALTH | M25: 32275025 | N25: CURRENT | O25: 2014/2015 | P25: 60000 | Q25: 150000 | R25: 0 | S25: -139000 | T25: 0.00 | U25: 71000 | V25: 0 | W25: 71233.67 | X25: -233.67 | Y25: REGIONAL IDENTIFIER | Z25: NAT FUNCTION:WHOLE COUNTRY DOM | AA25: NAT FUNCTION: WHOLE COUNTRY DOM | AE25: NAT FUNCTION: WHOLE COUNTRY DOM | AF25: 30001025 | AG25: EXPENDITURE:VOTED | AH25: DEPARTMENTAL APPROPRIATION | AI25: EARMARKED AND SPECIFIC FUNDS | AJ25: E & S FUNDS: NATIONAL | AK25: E&S/F:HEALTH | AL25: DOH:SPEC & EXCL APPROPRIATE | AM25: NHI GRANT:HPV VAC CO-ALL-IN-KIND | AN25: 853025 | AO25: DOH:HIV&AIDS, TB, MAT&CHILD HEAL | AP25: DOH:CHILD,YOUTH & SCHOOL HEALTH | AQ25: HPV VACCINE | AW25: HPV VACCINE | AX25: 30130025 | AY25: NON-ASSETS RELATED | AZ25: NON-ASSETS RELATED | BE25: NON-ASSETS RELATED | BF25: 235025 | BG25: NO PROJECTS | BH25: NO PROJECTS | BM25: NO PROJECTS | BN25: 4025 | BO25: PAYMENTS | BP25: PAYMENTS | BQ25: GOODS AND SERVICES | BR25: VENUES AND FACILITIES | BS25: VENUES AND FACILITIES | BU25: VENUES AND FACILITIES | BV25: 823025 | BW25: EXPENDITURE | BX25: NON INFRASTRUCTURE | BY25: NON INFRASTRUCTURE: CURRENT | BZ25: NON INFRASTRUCTURE: CURRENT | CA25: NON INFRA/STAND ALONE: CUR | CC25: NON INFRA/STAND ALONE: CUR | CD25: 95025 | CE25: N | CF25: N | CG25: N | CH25: CURRENT PAYMENTS | CI25: GOODS AND SERVICES | CJ25: GOODS AND SERVICES | CK25: HEALTH | CL25: HEALTH N.E.C. | CM25: HLTH:HEALTH N.E.C.
A26: National Departments | B26: Vote 16: Health | C26: DEPARTMENTAL RESPONSIBILITIES | D26: NATIONAL DEPARTMENT OF HEALTH | E26: P3:HIV AIDS,TB, MAT & CHILD HLTH | F26: CHILD YOUTH AND SCHOOL HLTH | G26: CHILD YOUTH & SCHOOL HEALTH | L26: CHILD YOUTH & SCHOOL HEALTH | M26: 32275025 | N26: CURRENT | O26: 2014/2015 | P26: 100000 | Q26: 0 | R26: 0 | S26: -10000 | T26: 0.00 | U26: 90000 | V26: 0 | W26: 89482.55 | X26: 517.45 | Y26: REGIONAL IDENTIFIER | Z26: NAT FUNCTION:WHOLE COUNTRY DOM | AA26: NAT FUNCTION: WHOLE COUNTRY DOM | AE26: NAT FUNCTION: WHOLE COUNTRY DOM | AF26: 30001025 | AG26: EXPENDITURE:VOTED | AH26: DEPARTMENTAL APPROPRIATION | AI26: EARMARKED AND SPECIFIC FUNDS | AJ26: E & S FUNDS: NATIONAL | AK26: E&S/F:HEALTH | AL26: DOH:SPEC & EXCL APPROPRIATE | AM26: NHI GRANT:HPV VAC CO-ALL-IN-KIND | AN26: 853025 | AO26: DOH:HIV&AIDS, TB, MAT&CHILD HEAL | AP26: DOH:CHILD,YOUTH & SCHOOL HEALTH | AQ26: HPV VACCINE | AW26: HPV VACCINE | AX26: 30130025 | AY26: NON-ASSETS RELATED | AZ26: NON-ASSETS RELATED | BE26: NON-ASSETS RELATED | BF26: 235025 | BG26: NO PROJECTS | BH26: NO PROJECTS | BM26: NO PROJECTS | BN26: 4025 | BO26: PAYMENTS | BP26: PAYMENTS | BQ26: GOODS AND SERVICES | BR26: TRAVEL AND SUBSISTENCE | BS26: T&S DOMESTIC | BT26: T&S DOM:ACCOMMODATION | BU26: T&S DOM:ACCOMMODATION | BV26: 3377025 | BW26: EXPENDITURE | BX26: NON INFRASTRUCTURE | BY26: NON INFRASTRUCTURE: CURRENT | BZ26: NON INFRASTRUCTURE: CURRENT | CA26: NON INFRA/STAND ALONE: CUR | CC26: NON INFRA/STAND ALONE: CUR | CD26: 95025 | CE26: N | CF26: N | CG26: N | CH26: CURRENT PAYMENTS | CI26: GOODS AND SERVICES | CJ26: GOODS AND SERVICES | CK26: HEALTH | CL26: HEALTH N.E.C. | CM26: HLTH:HEALTH N.E.C.
A27: National Departments | B27: Vote 16: Health | C27: DEPARTMENTAL RESPONSIBILITIES | D27: NATIONAL DEPARTMENT OF HEALTH | E27: P3:HIV AIDS,TB, MAT & CHILD HLTH | F27: CHILD YOUTH AND SCHOOL HLTH | G27: CHILD YOUTH & SCHOOL HEALTH | L27: CHILD YOUTH & SCHOOL HEALTH | M27: 32275025 | N27: CURRENT | O27: 2014/2015 | P27: 200000 | Q27: 0 | R27: 0 | S27: -161000 | T27: 0.00 | U27: 39000 | V27: 0 | W27: 39176.44 | X27: -176.44 | Y27: REGIONAL IDENTIFIER | Z27: NAT FUNCTION:WHOLE COUNTRY DOM | AA27: NAT FUNCTION: WHOLE COUNTRY DOM | AE27: NAT FUNCTION: WHOLE COUNTRY DOM | AF27: 30001025 | AG27: EXPENDITURE:VOTED | AH27: DEPARTMENTAL APPROPRIATION | AI27: EARMARKED AND SPECIFIC FUNDS | AJ27: E & S FUNDS: NATIONAL | AK27: E&S/F:HEALTH | AL27: DOH:SPEC & EXCL APPROPRIATE | AM27: NHI GRANT:HPV VAC CO-ALL-IN-KIND | AN27: 853025 | AO27: DOH:HIV&AIDS, TB, MAT&CHILD HEAL | AP27: DOH:CHILD,YOUTH & SCHOOL HEALTH | AQ27: HPV VACCINE | AW27: HPV VACCINE | AX27: 30130025 | AY27: NON-ASSETS RELATED | AZ27: NON-ASSETS RELATED | BE27: NON-ASSETS RELATED | BF27: 235025 | BG27: NO PROJECTS | BH27: NO PROJECTS | BM27: NO PROJECTS | BN27: 4025 | BO27: PAYMENTS | BP27: PAYMENTS | BQ27: GOODS AND SERVICES | BR27: TRAVEL AND SUBSISTENCE | BS27: T&S DOMESTIC | BT27: T&S:DOM:TRANSPORT-SHUTTLE SRVCS | BU27: T&S DOM:AIR TRANSPORT | BV27: 3989025 | BW27: EXPENDITURE | BX27: NON INFRASTRUCTURE | BY27: NON INFRASTRUCTURE: CURRENT | BZ27: NON INFRASTRUCTURE: CURRENT | CA27: NON INFRA/STAND ALONE: CUR | CC27: NON INFRA/STAND ALONE: CUR | CD27: 95025 | CE27: N | CF27: N | CG27: N | CH27: CURRENT PAYMENTS | CI27: GOODS AND SERVICES | CJ27: GOODS AND SERVICES | CK27: HEALTH | CL27: HEALTH N.E.C. | CM27: HLTH:HEALTH N.E.C.
A28: National Departments | B28: Vote 16: Health | C28: DEPARTMENTAL RESPONSIBILITIES | D28: NATIONAL DEPARTMENT OF HEALTH | E28: P3:HIV AIDS,TB, MAT & CHILD HLTH | F28: CHILD YOUTH AND SCHOOL HLTH | G28: CHILD YOUTH & SCHOOL HEALTH | L28: CHILD YOUTH & SCHOOL HEALTH | M28: 32275025 | N28: CURRENT | O28: 2014/2015 | P28: 199630000 | Q28: -58150000 | R28: 0 | S28: 35567000 | T28: 0.00 | U28: 177047000 | V28: 0 | W28: 1.7704566e+08 | X28: 1344.23 | Y28: REGIONAL IDENTIFIER | Z28: NAT FUNCTION:WHOLE COUNTRY DOM | AA28: NAT FUNCTION: WHOLE COUNTRY DOM | AE28: NAT FUNCTION: WHOLE COUNTRY DOM | AF28: 30001025 | AG28: EXPENDITURE:VOTED | AH28: DEPARTMENTAL APPROPRIATION | AI28: EARMARKED AND SPECIFIC FUNDS | AJ28: E & S FUNDS: NATIONAL | AK28: E&S/F:HEALTH | AL28: DOH:SPEC & EXCL APPROPRIATE | AM28: NHI GRANT:HPV VAC CO-ALL-IN-KIND | AN28: 853025 | AO28: DOH:HIV&AIDS, TB, MAT&CHILD HEAL | AP28: DOH:CHILD,YOUTH & SCHOOL HEALTH | AQ28: HPV VACCINE | AW28: HPV VACCINE | AX28: 30130025 | AY28: NON-ASSETS RELATED | AZ28: NON-ASSETS RELATED | BE28: NON-ASSETS RELATED | BF28: 235025 | BG28: NO PROJECTS | BH28: NO PROJECTS | BM28: NO PROJECTS | BN28: 4025 | BO28: PAYMENTS | BP28: PAYMENTS | BQ28: GOODS AND SERVICES | BR28: INV: MEDICINE | BS28: INV MEDI:VACCINES | BT28: INV MEDI:VACCINES | BU28: INV MEDI:VACCINES | BV28: 2329025 | BW28: EXPENDITURE | BX28: NON INFRASTRUCTURE | BY28: NON INFRASTRUCTURE: CURRENT | BZ28: NON INFRASTRUCTURE: CURRENT | CA28: NON INFRA/STAND ALONE: CUR | CC28: NON INFRA/STAND ALONE: CUR | CD28: 95025 | CE28: N | CF28: N | CG28: N | CH28: CURRENT PAYMENTS | CI28: GOODS AND SERVICES | CJ28: GOODS AND SERVICES | CK28: HEALTH | CL28: HEALTH N.E.C. | CM28: HLTH:HEALTH N.E.C.
P29: =SUM(P2:P28) -> 200000000 | Q29: =SUM(Q2:Q28) -> 0 | R29: =SUM(R2:R28) -> 0 | S29: =SUM(S2:S28) -> 0 | T29: =SUM(T2:T28) -> 0 | U29: =SUM(U2:U28) -> 200000000 | V29: =SUM(V2:V28) -> 14496 | W29: =SUM(W2:W28) -> 1.8948886e+08 | X29: =SUM(X2:X28) -> 10496648
D31: Main Expenditure items
E32: Compensation and contractors
E33: Inventory (Incl. Vaccines)
E34: Travel and transport
E35: Training and catering
E36: Stationery, Printing and communication
E37: Equipment (e.g. Electronic tablets)
E38: Other expenses

Sheet Exp201516
A1: National_Provincial | B1: Department | C1: Responsibility_Level_1 | D1: Responsibility_Level_2 | E1: Responsibility_Level_3 | F1: Responsibility_Level_4 | G1: Responsibility_Level_5 | H1: Responsibility_Level_6 | I1: Responsibility_Level_7 | J1: Responsibility_Level_8 | K1: Responsibility_Level_9 | L1: Responsibility_Lowest_Level | M1: Responsibility_Lowest_Level_Code | N1: Econ_Class | O1: Financial_Year | P1: Original_Budget | Q1: Adjustment_Budget | R1: Virement | S1: Fund_Shift | T1: Roll_Over | U1: Current_Budget | V1: Commitment | W1: Total_Expenditure | X1: Available_Budget | Y1: Regional_ID_Level_1 | Z1: Regional_ID_Level_2 | AA1: Regional_ID_Level_3 | AB1: Regional_ID_Level_4 | AC1: Regional_ID_Level_5 | AD1: Regional_ID_Level_6 | AE1: Regional_ID_Lowest_Level | AF1: Regional_ID_Lowest_Level_Code | AG1: Fund_Level_1 | AH1: Fund_Level_2 | AI1: Fund_Level_3 | AJ1: Fund_Level_4 | AK1: Fund_Level_5 | AL1: Fund_Level_6 | AM1: Fund_Lowest_Level | AN1: Fund_Lowest_Level_Code | AO1: Programme_Level_5 | AP1: Sub_Programme_Level_6 | AQ1: Objective_Level_7 | AR1: Objective_Level_8 | AS1: Objective_Level_9 | AT1: Objective_Level_10 | AU1: Objective_Level_11 | AV1: Objective_Level_12 | AW1: Objective_Lowest_Level | AX1: Objective_Lowest_Level_Code | AY1: Assets_Level_1 | AZ1: Assets_Level_2 | BA1: Assets_Level_3 | BB1: Assets_Level_4 | BC1: Assets_Level_5 | BD1: Assets_Level_6 | BE1: Assets_Lowest_Level | BF1: Assets_Lowest_Level_Code | BG1: Project_Level_1 | BH1: Project_Level_2 | BI1: Project_Level_3 | BJ1: Project_Level_4 | BK1: Project_Level_5 | BL1: Project_Level_6 | BM1: Project_Lowest_Level | BN1: Project_Lowest_Level_Code | BO1: Item_Level_1 | BP1: Item_Level_2 | BQ1: Item_Level_3 | BR1: Item_Level_4 | BS1: Item_Level_5 | BT1: Item_Level_6 | BU1: Item_Lowest_Level | BV1: Item_Lowest_Level_Code | BW1: Infrastructure_Level_1 | BX1: Infrastructure_Level_2 | BY1: Infrastructure_Level_3 | BZ1: Infrastructure_Level_4 | CA1: Infrastructure_Level_5 | CB1: Infrastructure_Level_6 | CC1: Infrastructure_Lowest_Level | CD1: Infrastructure_Lowest_Level_Code | CE1: ICT | CF1: ICT_Resp | CG1: ICT_Item | CH1: ECON_CLASS_LEVEL_2 | CI1: ECON_CLASS_LEVEL_3 | CJ1: INCONSISTENT_ECON_CLASS | CK1: Func_Class_Level_1 | CL1: Func_Class_Level_2 | CM1: Func_Class_Lowest_Level
A2: National Departments | B2: Vote 16: Health | C2: DEPARTMENTAL RESPONSIBILITIES | D2: NATIONAL DEPARTMENT OF HEALTH | E2: P3:HIV AIDS,TB, MAT & CHILD HLTH | F2: CHILD YOUTH AND SCHOOL HLTH | G2: CHILD YOUTH & SCHOOL HEALTH | L2: CHILD YOUTH & SCHOOL HEALTH | M2: 32275025 | N2: CURRENT | O2: 2015/2016 | P2: 0 | Q2: 0 | R2: 0 | S2: 0 | T2: 0 | U2: 0 | V2: 0 | W2: 260 | X2: -260 | Y2: REGIONAL IDENTIFIER | Z2: NAT FUNCTION:WHOLE COUNTRY DOM | AA2: NAT FUNCTION: WHOLE COUNTRY DOM | AE2: NAT FUNCTION: WHOLE COUNTRY DOM | AF2: 30001025 | AG2: EXPENDITURE:VOTED | AH2: DEPARTMENTAL APPROPRIATION | AI2: VOTED FUNDS DISCRETIONARY | AJ2: VOTED FUNDS | AM2: VOTED FUNDS | AN2: 341025 | AO2: DOH:HIV&AIDS, TB, MAT&CHILD HEAL | AP2: DOH:CHILD,YOUTH & SCHOOL HEALTH | AQ2: CHILD YOUTH & SCHOOL HLTH | AW2: CHILD YOUTH & SCHOOL HLTH | AX2: 30014025 | AY2: NON-ASSETS RELATED | AZ2: NON-ASSETS RELATED | BE2: NON-ASSETS RELATED | BF2: 235025 | BG2: NO PROJECTS | BH2: NO PROJECTS | BM2: NO PROJECTS | BN2: 4025 | BO2: PAYMENTS | BP2: PAYMENTS | BQ2: GOODS AND SERVICES | BR2: ADMINISTRATIVE FEES: PAYMENTS | BS2: BANK CHARGES AND CARD FEES | BT2: BANK CHARG&CARD FEES COMM BANK | BU2: BANK CHARG&CARD FS COMM BANK | BV2: 3811025 | BW2: EXPENDITURE | BX2: NON INFRASTRUCTURE | BY2: NON INFRASTRUCTURE: CURRENT | BZ2: NON INFRASTRUCTURE: CURRENT | CA2: NON INFRA/STAND ALONE: CUR | CC2: NON INFRA/STAND ALONE: CUR | CD2: 95025 | CE2: N | CF2: N | CG2: N | CH2: CURRENT PAYMENTS | CI2: GOODS AND SERVICES | CJ2: GOODS AND SERVICES | CK2: HEALTH | CL2: HEALTH N.E.C. | CM2: HLTH:HEALTH N.E.C.
A3: National Departments | B3: Vote 16: Health | C3: DEPARTMENTAL RESPONSIBILITIES | D3: NATIONAL DEPARTMENT OF HEALTH | E3: P3:HIV AIDS,TB, MAT & CHILD HLTH | F3: CHILD YOUTH AND SCHOOL HLTH | G3: CHILD YOUTH & SCHOOL HEALTH | L3: CHILD YOUTH & SCHOOL HEALTH | M3: 32275025 | N3: CURRENT | O3: 2015/2016 | P3: 0 | Q3: 0 | R3: 0 | S3: 0 | T3: 0 | U3: 0 | V3: 428600 | W3: 0 | X3: -428600 | Y3: REGIONAL IDENTIFIER | Z3: NAT FUNCTION:WHOLE COUNTRY DOM | AA3: NAT FUNCTION: WHOLE COUNTRY DOM | AE3: NAT FUNCTION: WHOLE COUNTRY DOM | AF3: 30001025 | AG3: EXPENDITURE:VOTED | AH3: DEPARTMENTAL APPROPRIATION | AI3: VOTED FUNDS DISCRETIONARY | AJ3: VOTED FUNDS | AM3: VOTED FUNDS | AN3: 341025 | AO3: DOH:HIV&AIDS, TB, MAT&CHILD HEAL | AP3: DOH:CHILD,YOUTH & SCHOOL HEALTH | AQ3: HPV VACCINE | AW3: HPV VACCINE | AX3: 30130025 | AY3: NON-ASSETS RELATED | AZ3: NON-ASSETS RELATED | BE3: NON-ASSETS RELATED | BF3: 235025 | BG3: NO PROJECTS | BH3: NO PROJECTS | BM3: NO PROJECTS | BN3: 4025 | BO3: PAYMENTS | BP3: PAYMENTS | BQ3: GOODS AND SERVICES | BR3: OPERATING PAYMENTS | BS3: O/P:PRINTING&PUBLICATIONS SERV | BT3: O/P:PRINTING&PUBLICAT SERV | BU3: O/P:PRINTING&PUBLICAT SERV | BV3: 2126025 | BW3: EXPENDITURE | BX3: NON INFRASTRUCTURE | BY3: NON INFRASTRUCTURE: CURRENT | BZ3: NON INFRASTRUCTURE: CURRENT | CA3: NON INFRA/STAND ALONE: CUR | CC3: NON INFRA/STAND ALONE: CUR | CD3: 95025 | CE3: N | CF3: N | CG3: N | CH3: CURRENT PAYMENTS | CI3: GOODS AND SERVICES | CJ3: GOODS AND SERVICES | CK3: HEALTH | CL3: HEALTH N.E.C. | CM3: HLTH:HEALTH N.E.C.
A4: National Departments | B4: Vote 16: Health | C4: DEPARTMENTAL RESPONSIBILITIES | D4: NATIONAL DEPARTMENT OF HEALTH | E4: P3:HIV AIDS,TB, MAT & CHILD HLTH | F4: CHILD YOUTH AND SCHOOL HLTH | G4: CHILD YOUTH & SCHOOL HEALTH | L4: CHILD YOUTH & SCHOOL HEALTH | M4: 32275025 | N4: CURRENT | O4: 2015/2016 | P4: 0 | Q4: 0 | R4: 0 | S4: 2000 | T4: 0 | U4: 2000 | V4: 0 | W4: 0 | X4: 2000 | Y4: REGIONAL IDENTIFIER | Z4: NAT FUNCTION:WHOLE COUNTRY DOM | AA4: NAT FUNCTION: WHOLE COUNTRY DOM | AE4: NAT FUNCTION: WHOLE COUNTRY DOM | AF4: 30001025 | AG4: EXPENDITURE:VOTED | AH4: DEPARTMENTAL APPROPRIATION | AI4: VOTED FUNDS DISCRETIONARY | AJ4: VOTED FUNDS | AM4: VOTED FUNDS | AN4: 341025 | AO4: DOH:HIV&AIDS, TB, MAT&CHILD HEAL | AP4: DOH:CHILD,YOUTH & SCHOOL HEALTH | AQ4: CHILD YOUTH & SCHOOL HLTH | AW4: CHILD YOUTH & SCHOOL HLTH | AX4: 30014025 | AY4: NON-ASSETS RELATED | AZ4: NON-ASSETS RELATED | BE4: NON-ASSETS RELATED | BF4: 235025 | BG4: NO PROJECTS | BH4: NO PROJECTS | BM4: NO PROJECTS | BN4: 4025 | BO4: PAYMENTS | BP4: PAYMENTS | BQ4: GOODS AND SERVICES | BR4: CONS SUPPLIES | BS4: CONS:HOUSEHOLD SUPP | BT4: CONS HOUS SUP:CROCKERY & CUTLERY | BU4: CONS HOUS SUP:CROCKERY & CUTLERY | BV4: 4846025 | BW4: EXPENDITURE | BX4: NON INFRASTRUCTURE | BY4: NON INFRASTRUCTURE: CURRENT | BZ4: NON INFRASTRUCTURE: CURRENT | CA4: NON INFRA/STAND ALONE: CUR | CC4: NON INFRA/STAND ALONE: CUR | CD4: 95025 | CE4: N | CF4: N | CG4: N | CH4: CURRENT PAYMENTS | CI4: GOODS AND SERVICES | CJ4: GOODS AND SERVICES | CK4: HEALTH | CL4: HEALTH N.E.C. | CM4: HLTH:HEALTH N.E.C.
